BEGIN:VCALENDAR
VERSION:2.0
PRODID:-//Federación Española de Belenistas. - ECPv5.3.0//NONSGML v1.0//EN
CALSCALE:GREGORIAN
METHOD:PUBLISH
X-WR-CALNAME:Federación Española de Belenistas.
X-ORIGINAL-URL:https://anunciata.es
X-WR-CALDESC:Eventos para Federación Española de Belenistas.
BEGIN:VTIMEZONE
TZID:Europe/Helsinki
BEGIN:DAYLIGHT
TZOFFSETFROM:+0200
TZOFFSETTO:+0300
TZNAME:EEST
DTSTART:20170326T010000
END:DAYLIGHT
BEGIN:STANDARD
TZOFFSETFROM:+0300
TZOFFSETTO:+0200
TZNAME:EET
DTSTART:20171029T010000
END:STANDARD
END:VTIMEZONE
BEGIN:VEVENT
DTSTART;TZID=Europe/Helsinki:20170312T093000
DTEND;TZID=Europe/Helsinki:20170312T140000
DTSTAMP:20260421T124230
CREATED:20161028T081546Z
LAST-MODIFIED:20180220T173801Z
UID:2348-1489311000-1489327200@anunciata.es
SUMMARY:Asamblea General Ordinaria - 12 de marzo de 2017 - Federación Española de Belenistas
DESCRIPTION:Convocatoria de ASAMBLEA GENERAL ORDINARIA de esta Federación\, que tendrá lugar en Madrid el domingo 12 de marzo de 2017 a las 9:00h de la mañana en primera convocatoria\, y a las 9:30h en segunda y definitiva. \nEsta reunión se celebrará en el Salón Santa Ana del Hotel Tryp Madrid Atocha sito en la calle Atocha nº 83 de Madrid\, con el siguiente \nORDEN DEL DÍA \n\nBienvenida y recepción a las asociaciones asistentes\, lectura de las delegaciones de presencia y constitución de la Asamblea.\nLectura y aprobación\, si procede\, del acta de la Asamblea anterior.\nInforme de Comisiones y aprobación de los acuerdos tomados.\nRuegos y preguntas.
URL:https://anunciata.es/event/asamblea-general-ordinaria-12-de-marzo-de-2017-federacion-espanola-de-belenistas/
LOCATION:Hotel Tryp Madrid Atocha – Salón Santa Ana\, c/ Atocha\, 83\, Madrid\, 28012\, España
CATEGORIES:1 - Evento nacional,b1) Asamblea General Ordinaria FEB,Federación Española de Belenistas
END:VEVENT
END:VCALENDAR