BEGIN:VCALENDAR
VERSION:2.0
PRODID:-//Federación Española de Belenistas. - ECPv5.3.0//NONSGML v1.0//EN
CALSCALE:GREGORIAN
METHOD:PUBLISH
X-WR-CALNAME:Federación Española de Belenistas.
X-ORIGINAL-URL:https://anunciata.es
X-WR-CALDESC:Eventos para Federación Española de Belenistas.
BEGIN:VTIMEZONE
TZID:Europe/Helsinki
BEGIN:DAYLIGHT
TZOFFSETFROM:+0200
TZOFFSETTO:+0300
TZNAME:EEST
DTSTART:20160327T010000
END:DAYLIGHT
BEGIN:STANDARD
TZOFFSETFROM:+0300
TZOFFSETTO:+0200
TZNAME:EET
DTSTART:20161030T010000
END:STANDARD
END:VTIMEZONE
BEGIN:VEVENT
DTSTART;TZID=Europe/Helsinki:20160306T093000
DTEND;TZID=Europe/Helsinki:20160306T140000
DTSTAMP:20260423T221743
CREATED:20160217T074045Z
LAST-MODIFIED:20180220T172937Z
UID:4582-1457256600-1457272800@anunciata.es
SUMMARY:Asamblea General Ordinaria - 6 de marzo de 2016 - Federación Española de Belenistas
DESCRIPTION:Convocatoria de ASAMBLEA GENERAL ORDINARIA de esta Federación\, que tendrá lugar en Madrid el domingo 6 de marzo de 2016 a las 9:00h de la mañana en primera convocatoria\, y a las 9:30h en segunda y definitiva. \nEsta reunión se celebrará en el Salón Moratín del Hotel Tryp Atocha sito en la calle Atocha nº 83 de Madrid\, con el siguiente \nORDEN DEL DÍA \n\nBienvenida y recepción a las asociaciones asistentes\, lectura de las delegaciones de presencia y constitución de la Asamblea.\nLectura y aprobación\, si procede\, de las actas de las Asambleas anteriores.\nInforme de Comisiones y aprobación de los acuerdos tomados.\nRuegos y preguntas.
URL:https://anunciata.es/event/asamblea-general-ordinaria-6-de-marzo-de-2016-federacion-espanola-de-belenistas/
LOCATION:Hotel Tryp Madrid Atocha – Salón Moratín\, c/ Atocha\, 83\, Madrid\, 28012\, España
CATEGORIES:1 - Evento nacional,b1) Asamblea General Ordinaria FEB,Federación Española de Belenistas
END:VEVENT
END:VCALENDAR